BEGIN:VCALENDAR
VERSION:2.0
PRODID:-// eRoom plugin //NONSGML v1.0//EN
CALSCALE:GREGORIAN
BEGIN:VEVENT
UID:eRoom-1776536409
SUMMARY:HOW MASTER EMOTIONAL INTELLIGENCE &#8211; 1ST SESSION
LOCATION:Zoom
DESCRIPTION:Emotional intelligence is the key to stronger relationships\, b
 etter decision-making\, and overall success in life. Through engaging disc
 ussions\, practical insights\, and real-life applications\, we’ll explor
 e how to harness the power of emotional intelligence to elevate both perso
 nal and professional growth.\n\n---\n\nHOW MASTER EMOTIONAL INTELLIGENCE &
 #8211\; 1ST SESSION is inviting you to a scheduled Zoom meeting.\n\nJoin Z
 oom Meeting\nhttps://us02web.zoom.us/j/88157388012\n\nMeeting ID: 88157388
 012\n
URL;VALUE=URI:https://us02web.zoom.us/j/88157388012
DTSTART:20250510T170000Z
DTEND:20250510T190000Z
DTSTAMP:20260418T182009Z
BEGIN:VALARM
ACTION:DISPLAY
DESCRIPTION:Reminder
TRIGGER;RELATED=START:-PT15M
END:VALARM
END:VEVENT
END:VCALENDAR